Workbook

Sheet Erläuterung
A1: Erläuterung und Hinweise
A3: Das Ziel der Datenerfassung besteht in der verständlichen und zusammenfassenden Darstellung der zertifizierungsrelevanten Daten. Abweichungen von Sollwerten sind mit Erläuterungen zu hinterlegen und werden im Audit geprüft.
A5: Funktionalität
A6: Diese Datei wurde mit Microsoft Office365 erstellt. Die Verwendung von anderen Office-Versionen kann unter Umständen zu Einschränkungen und Funktionalitätsverlusten führen.
A8: Wichtig: Die Eingaben sind abhängig von der gewählten Zentrumsart (Level I/II/III). Bitte wählen Sie im im Tabellenblatt "Kennzahlenbogen" daher zuerst die Art des Zentrums aus und tätigen Sie erst danach weitere Eingaben.
A10: Bearbeitungshinweise
A11: Die in dieser Excel-Datei nachfolgenden Tabellen sind Anlagen des Anforderungskataloges (=Zertifizierungsgrundlage) und somit im Rahmen der Zertifizierung verbindlich zu bearbeiten. Die zu bearbeitenden Felder sind farblich hervorgehoben. Alle Angaben beziehen sich auf das zu zertifizierende Handzentrum und soweit nicht anders hervorgehoben auf das Erfassungsjahr.
A13: Legende: | D13: Eingabe erfolgt automatisch (Bezug auf andere Zellen)
D14: Eingabe optional
D15: Eingabe ausstehend
A18: Auswahl des Dokumentationssystems
A19: Dem Zentrum ist die Auswahl des Dokumentationssystems freigestellt. Die Daten können aus unterschiedlichen Systemen generiert werden, sofern sich diese qualitativ / quantitativ nicht widersprechen.

Sheet Kennzahlenbogen
B2: Zertifizierte Handzentren (DGH) | O2: Art des Zentrums | Q2: Zertifizierungszyklus | T2: Legende Anmerkung:
B3: Kennzahlenbogen | O3: Level I
O4: Level II | Q4: Erstzertifizierung | T4: Anforderung erfüllt
O5: Level III | Q5: Re-Zertifizierung | T5: nicht befüllt
B6: Name des Zentrums | T6: Sollvorgabe nicht erfüllt
B8: Level des Zentrums | F8: Reg.Nr. ZHZ- | K8: Dokumentenversion | L8: -R1
B10: Bitte beachten Sie, dass neben den hier eingegebenen Daten zur Erfüllung der Level-Anforderung zusätzlich die Angaben aus dem Anforderungskatalog erfüllt sein müssen.
D13: =IF(D8="","Bitte tragen Sie in Zelle D8 Ihr Level ein.","") -> Bitte tragen Sie in Zelle D8 Ihr Level ein. | K13: Auditjahr
C15: Level I | D15: Die Kennzahlen / Eingriffsarten 1 bis 9 und zusätzlich 1 weitere Eingriffsart. | K15: Erfassungsjahr
C16: Level II | D16: Die Kennzahlen / Eingriffsarten 1 bis 17 und zusätzlich 1 weitere Eingriffsart.
C17: Level III | D17: Die Kennzahlen / Eingriffsarten 1 bis 19 und zusätzlich 1 weitere Eingriffsart. | K17: Erstelldatum
C19: Jedes Level kann eine geforderte Kategorie durch die Erfüllung einer anderen Kategorie kompensieren. | K19: Zertifizierungszyklus
R20: Übertrag nach Auswahl (Zelle D8)
G21: Mindestanforderung | O21: Anforderungsprüfung je Level | U21: Pflichtkennzahl | X21: Übertrag nach Auswahl (Zelle D8) | Y21: Pflichtkennzahl (1=ja; 0=nein) | Z21: Summe Pflichtkennzahlen erfüllt: | AA21: =SUMIFS($X$27:$X$52,$Y$27:$Y$52,1) -> 0
B22: Nr. | C22: EB | D22: Kennzahl / Eingriffsart | E22: Kennzahlendefinition | G22: Level I | H22: Level II | I22: Level III | J22: Ist-Wert | K22: Anmerkung | L22: Kommentar | O22: Level I | P22: Level II | Q22: Level III | R22: =D8 -> 0 | U22: Level I | V22: Level II | W22: Level III | Z22: Summe freiwillige Kennzahlen erfüllt: | AA22: =SUMIFS($X$27:$X$52,$Y$27:$Y$52,0) -> 0
B23: 0 | C23: 2 | D23: Mindestanzahl Operateure (DGH-Mitglieder mit Zusatzbezeichnung Handchirurgie) * | E23: Anzahl | G23: 1 | H23: 2 | I23: 3 | K23: =IF(J23="","nicht befüllt",IF(R23=1,"Anforderung erfüllt","Sollvorgabe nicht erfüllt")) -> nicht befüllt | O23: =IF(J23>=G23,1,0) -> 0 | P23: =IF(J23>=H23,1,0) -> 0 | Q23: =IF(J23>=I23,1,0) -> 0 | R23: =IF($D$8=O$22,O23,IF($D$8=P$22,P23,IF($D$8=Q$22,Q23))) -> FALSE | Z23: Anforderung ans Level I erfüllt: | AA23: =IF(AND(AA21>=8,(AA21+AA22)>=10),1,0) -> 0
B24: 0 | C24: 2 | D24: Expertenzertifikat Handchirurgie | E24: Anzahl | G24: 1 | H24: =IF(OR(L19="Erstzertifizierung",L19="Überwachung nach EZ"),1,2) -> 2 | I24: =IF(OR(L19="Erstzertifizierung",L19="Überwachung nach EZ"),2,3) -> 3 | K24: =IF(J24="","nicht befüllt",IF(R24=1,"Anforderung erfüllt","Sollvorgabe nicht erfüllt")) -> nicht befüllt | O24: =IF(J24>=G24,1,0) -> 0 | P24: =IF(J24>=H24,1,0) -> 0 | Q24: =IF(J24>=I24,1,0) -> 0 | R24: =IF($D$8=O$22,O24,IF($D$8=P$22,P24,IF($D$8=Q$22,Q24))) -> FALSE | Z24: Anforderung ans Level II erfüllt: | AA24: =IF(AND(AA21>=16,(AA21+AA22)>=18),1,0) -> 0
B25: 0 | C25: 2 | D25: weiterer Facharzt | E25: Anzahl | G25: 1 | H25: 2 | I25: 3 | K25: =IF(J25="","nicht befüllt",IF(R25=1,"Anforderung erfüllt","Sollvorgabe nicht erfüllt")) -> nicht befüllt | O25: =IF(J25>=G25,1,0) -> 0 | P25: =IF(J25>=H25,1,0) -> 0 | Q25: =IF(J25>=I25,1,0) -> 0 | R25: =IF($D$8=O$22,O25,IF($D$8=P$22,P25,IF($D$8=Q$22,Q25))) -> FALSE | Z25: Anforderung ans Level III erfüllt: | AA25: =IF(AND(AA21>=18,(AA21+AA22)>=20),1,0) -> 0
D26: Erfüllung der Level-bezogenen Kennzahlen-Eingriffsarten | G26: Die Kennzahlen / Eingriffsarten 1 bis 9 und zusätzlich 1 weitere Eingriffsart. | H26: Die Kennzahlen / Eingriffsarten 1 bis 17 und zusätzlich 1 weitere Eingriffsart. | I26: Die Kennzahlen / Eingriffsarten 1 bis 19 und zusätzlich 1 weitere Eingriffsart. | J26: =IF(AA26=1,"Sollvorgabe erfüllt",IF(AA26=0,"Sollvorgabe nicht erfüllt","Bitte Level auswählen!")) -> Bitte Level auswählen! | K26: =IF(AA26=FALSE,"Level nicht ausgewählt",IF(AA26=1,"Anforderung erfüllt","Sollvorgabe nicht erfüllt")) -> Level nicht ausgewählt | Z26: Anforderungen ans aktuell ausgewählte Level erfüllt: | AA26: =IF(D8=O3,AA23,IF(D8=O4,AA24,IF(D8=O5,AA25))) -> FALSE
B27: 1 | C27: 1 | D27: Osteosynthesen bei Frakturen an Metakarpalknochen und Phalangen | E27: Anzahl | G27: 10 | H27: 20 | I27: 30 | K27: =IF(J27="","nicht befüllt",IF(R27=1,"Anforderung erfüllt","Sollvorgabe nicht erfüllt")) -> nicht befüllt | O27: =IF(J27>=G27,1,0) -> 0 | P27: =IF(J27>=H27,1,0) -> 0 | Q27: =IF(J27>=I27,1,0) -> 0 | R27: =IF($D$8=O$22,O27,IF($D$8=P$22,P27,IF($D$8=Q$22,Q27))) -> FALSE | U27: 1 | V27: 1 | W27: 1 | X27: =IF($D$8=U$22,O27,IF($D$8=V$22,P27,IF($D$8=W$22,Q27))) -> FALSE | Y27: =IF($D$8=U$22,U27,IF($D$8=V$22,V27,IF($D$8=W$22,W27))) -> FALSE
B28: 2 | C28: 1 | D28: Operative Gelenkeingriffe distal des Karpus (z.B. bei Fingergelenkluxation, Arthroplastiken (ohne Endoprothetik), Bandrekonstruktionen und Arthrodesen) | E28: Anzahl | G28: 10 | H28: 15 | I28: 20 | K28: =IF(J28="","nicht befüllt",IF(R28=1,"Anforderung erfüllt","Sollvorgabe nicht erfüllt")) -> nicht befüllt | O28: =IF(J28>=G28,1,0) -> 0 | P28: =IF(J28>=H28,1,0) -> 0 | Q28: =IF(J28>=I28,1,0) -> 0 | R28: =IF($D$8=O$22,O28,IF($D$8=P$22,P28,IF($D$8=Q$22,Q28))) -> FALSE | U28: 1 | V28: 1 | W28: 1 | X28: =IF($D$8=U$22,O28,IF($D$8=V$22,P28,IF($D$8=W$22,Q28))) -> FALSE | Y28: =IF($D$8=U$22,U28,IF($D$8=V$22,V28,IF($D$8=W$22,W28))) -> FALSE
B29: 3 | C29: 1 | D29: Arthroskopische Eingriffe an Handgelenk und Hand | E29: Anzahl | G29: 10 | H29: 20 | I29: 30 | K29: =IF(J29="","nicht befüllt",IF(R29=1,"Anforderung erfüllt","Sollvorgabe nicht erfüllt")) -> nicht befüllt | O29: =IF(J29>=G29,1,0) -> 0 | P29: =IF(J29>=H29,1,0) -> 0 | Q29: =IF(J29>=I29,1,0) -> 0 | R29: =IF($D$8=O$22,O29,IF($D$8=P$22,P29,IF($D$8=Q$22,Q29))) -> FALSE | U29: 1 | V29: 1 | W29: 1 | X29: =IF($D$8=U$22,O29,IF($D$8=V$22,P29,IF($D$8=W$22,Q29))) -> FALSE | Y29: =IF($D$8=U$22,U29,IF($D$8=V$22,V29,IF($D$8=W$22,W29))) -> FALSE
B30: 4 | C30: 1 | D30: Strecksehnennähte und Beugesehnennähte | E30: Anzahl | G30: 10 | H30: 20 | I30: 30 | K30: =IF(J30="","nicht befüllt",IF(R30=1,"Anforderung erfüllt","Sollvorgabe nicht erfüllt")) -> nicht befüllt | O30: =IF(J30>=G30,1,0) -> 0 | P30: =IF(J30>=H30,1,0) -> 0 | Q30: =IF(J30>=I30,1,0) -> 0 | R30: =IF($D$8=O$22,O30,IF($D$8=P$22,P30,IF($D$8=Q$22,Q30))) -> FALSE | U30: 1 | V30: 1 | W30: 1 | X30: =IF($D$8=U$22,O30,IF($D$8=V$22,P30,IF($D$8=W$22,Q30))) -> FALSE | Y30: =IF($D$8=U$22,U30,IF($D$8=V$22,V30,IF($D$8=W$22,W30))) -> FALSE
B31: 5 | C31: 1 | D31: Versorgung von Weichteilverletzungen an Unterarm, Handgelenk und Hand | E31: Anzahl | G31: 10 | H31: 20 | I31: 30 | K31: =IF(J31="","nicht befüllt",IF(R31=1,"Anforderung erfüllt","Sollvorgabe nicht erfüllt")) -> nicht befüllt | O31: =IF(J31>=G31,1,0) -> 0 | P31: =IF(J31>=H31,1,0) -> 0 | Q31: =IF(J31>=I31,1,0) -> 0 | R31: =IF($D$8=O$22,O31,IF($D$8=P$22,P31,IF($D$8=Q$22,Q31))) -> FALSE | U31: 1 | V31: 1 | W31: 1 | X31: =IF($D$8=U$22,O31,IF($D$8=V$22,P31,IF($D$8=W$22,Q31))) -> FALSE | Y31: =IF($D$8=U$22,U31,IF($D$8=V$22,V31,IF($D$8=W$22,W31))) -> FALSE
B32: 6 | C32: 1 | D32: Nervendekompressionen, Neurolysen und Nervennähte an Handgelenk und Hand | E32: Anzahl | G32: 30 | H32: 40 | I32: 50 | K32: =IF(J32="","nicht befüllt",IF(R32=1,"Anforderung erfüllt","Sollvorgabe nicht erfüllt")) -> nicht befüllt | O32: =IF(J32>=G32,1,0) -> 0 | P32: =IF(J32>=H32,1,0) -> 0 | Q32: =IF(J32>=I32,1,0) -> 0 | R32: =IF($D$8=O$22,O32,IF($D$8=P$22,P32,IF($D$8=Q$22,Q32))) -> FALSE | U32: 1 | V32: 1 | W32: 1 | X32: =IF($D$8=U$22,O32,IF($D$8=V$22,P32,IF($D$8=W$22,Q32))) -> FALSE | Y32: =IF($D$8=U$22,U32,IF($D$8=V$22,V32,IF($D$8=W$22,W32))) -> FALSE
B33: 7 | C33: 1 | D33: Operative Behandlung einfacher Infekte (Paronychie, Empyem der Fingergelenke, Phlegmone und Beugesehnenscheideninfektion) | E33: Anzahl | G33: 10 | H33: 20 | I33: 30 | K33: =IF(J33="","nicht befüllt",IF(R33=1,"Anforderung erfüllt","Sollvorgabe nicht erfüllt")) -> nicht befüllt | O33: =IF(J33>=G33,1,0) -> 0 | P33: =IF(J33>=H33,1,0) -> 0 | Q33: =IF(J33>=I33,1,0) -> 0 | R33: =IF($D$8=O$22,O33,IF($D$8=P$22,P33,IF($D$8=Q$22,Q33))) -> FALSE | U33: 1 | V33: 1 | W33: 1 | X33: =IF($D$8=U$22,O33,IF($D$8=V$22,P33,IF($D$8=W$22,Q33))) -> FALSE | Y33: =IF($D$8=U$22,U33,IF($D$8=V$22,V33,IF($D$8=W$22,W33))) -> FALSE
B34: 8 | C34: 1 | D34: Aponeurektomie bei M. Dupuytren | E34: Anzahl | G34: 10 | H34: 20 | I34: 20 | K34: =IF(J34="","nicht befüllt",IF(R34=1,"Anforderung erfüllt","Sollvorgabe nicht erfüllt")) -> nicht befüllt | O34: =IF(J34>=G34,1,0) -> 0 | P34: =IF(J34>=H34,1,0) -> 0 | Q34: =IF(J34>=I34,1,0) -> 0 | R34: =IF($D$8=O$22,O34,IF($D$8=P$22,P34,IF($D$8=Q$22,Q34))) -> FALSE | U34: 1 | V34: 1 | W34: 1 | X34: =IF($D$8=U$22,O34,IF($D$8=V$22,P34,IF($D$8=W$22,Q34))) -> FALSE | Y34: =IF($D$8=U$22,U34,IF($D$8=V$22,V34,IF($D$8=W$22,W34))) -> FALSE
B35: 9 | C35: 1 | D35: Chirurgie von Tumoren der Hand (außer Ganglien und benigne Hauttumoren) | E35: Anzahl | G35: 5 | H35: 10 | I35: 15 | K35: =IF(J35="","nicht befüllt",IF(R35=1,"Anforderung erfüllt","Sollvorgabe nicht erfüllt")) -> nicht befüllt | O35: =IF(J35>=G35,1,0) -> 0 | P35: =IF(J35>=H35,1,0) -> 0 | Q35: =IF(J35>=I35,1,0) -> 0 | R35: =IF($D$8=O$22,O35,IF($D$8=P$22,P35,IF($D$8=Q$22,Q35))) -> FALSE | U35: 1 | V35: 1 | W35: 1 | X35: =IF($D$8=U$22,O35,IF($D$8=V$22,P35,IF($D$8=W$22,Q35))) -> FALSE | Y35: =IF($D$8=U$22,U35,IF($D$8=V$22,V35,IF($D$8=W$22,W35))) -> FALSE
B36: 10 | C36: 1 | D36: Osteosynthesen karpaler Frakturen | E36: Anzahl | G36: 5 | H36: 10 | I36: 20 | K36: =IF(J36="","nicht befüllt",IF(R36=1,"Anforderung erfüllt","Sollvorgabe nicht erfüllt")) -> nicht befüllt | O36: =IF(J36>=G36,1,0) -> 0 | P36: =IF(J36>=H36,1,0) -> 0 | Q36: =IF(J36>=I36,1,0) -> 0 | R36: =IF($D$8=O$22,O36,IF($D$8=P$22,P36,IF($D$8=Q$22,Q36))) -> FALSE | U36: 0 | V36: 1 | W36: 1 | X36: =IF($D$8=U$22,O36,IF($D$8=V$22,P36,IF($D$8=W$22,Q36))) -> FALSE | Y36: =IF($D$8=U$22,U36,IF($D$8=V$22,V36,IF($D$8=W$22,W36))) -> FALSE
B37: 11 | C37: 1 | D37: Karpale Teilarthrodesen, knöcherne OPs der Lunatumnekrose, sekundäre SL-Band- und andere Bandrekonstruktionen | E37: Anzahl | G37: 5 | H37: 10 | I37: 20 | K37: =IF(J37="","nicht befüllt",IF(R37=1,"Anforderung erfüllt","Sollvorgabe nicht erfüllt")) -> nicht befüllt | O37: =IF(J37>=G37,1,0) -> 0 | P37: =IF(J37>=H37,1,0) -> 0 | Q37: =IF(J37>=I37,1,0) -> 0 | R37: =IF($D$8=O$22,O37,IF($D$8=P$22,P37,IF($D$8=Q$22,Q37))) -> FALSE | U37: 0 | V37: 1 | W37: 1 | X37: =IF($D$8=U$22,O37,IF($D$8=V$22,P37,IF($D$8=W$22,Q37))) -> FALSE | Y37: =IF($D$8=U$22,U37,IF($D$8=V$22,V37,IF($D$8=W$22,W37))) -> FALSE
B38: 12 | C38: 1 | D38: Operative Behandlung von Pseudarthrosen der Hand- und Karpalknochen | E38: Anzahl | G38: 5 | H38: 10 | I38: 20 | K38: =IF(J38="","nicht befüllt",IF(R38=1,"Anforderung erfüllt","Sollvorgabe nicht erfüllt")) -> nicht befüllt | O38: =IF(J38>=G38,1,0) -> 0 | P38: =IF(J38>=H38,1,0) -> 0 | Q38: =IF(J38>=I38,1,0) -> 0 | R38: =IF($D$8=O$22,O38,IF($D$8=P$22,P38,IF($D$8=Q$22,Q38))) -> FALSE | U38: 0 | V38: 1 | W38: 1 | X38: =IF($D$8=U$22,O38,IF($D$8=V$22,P38,IF($D$8=W$22,Q38))) -> FALSE | Y38: =IF($D$8=U$22,U38,IF($D$8=V$22,V38,IF($D$8=W$22,W38))) -> FALSE
... B52: 26 | C52: 1 | D52: Freie oder axial gestielte Lappenplastiken an Hand und Unterarm | E52: Anzahl | G52: 5 | H52: 5 | I52: 10 | K52: =IF(J52="","nicht befüllt",IF(R52=1,"Anforderung erfüllt","Sollvorgabe nicht erfüllt")) -> nicht befüllt | O52: =IF(J52>=G52,1,0) -> 0 | P52: =IF(J52>=H52,1,0) -> 0 | Q52: =IF(J52>=I52,1,0) -> 0 | R52: =IF($D$8=O$22,O52,IF($D$8=P$22,P52,IF($D$8=Q$22,Q52))) -> FALSE | U52: 0 | V52: 0 | W52: 0 | X52: =IF($D$8=U$22,O52,IF($D$8=V$22,P52,IF($D$8=W$22,Q52))) -> FALSE | Y52: =IF($D$8=U$22,U52,IF($D$8=V$22,V52,IF($D$8=W$22,W52))) -> FALSE
B54: Fallzahlen Zentrum | D54: Gesamtanzahl handchirurgischer Operationen pro Jahr:
B56: * Operateure / Fallzahlen | D56: Mindestanzahl handchirurgischer Operationen pro Operateur/Jahr: | F56: 150 | G56: Gesamt-eingriffe | H56: Operateur | I56: Assistenz
B57: Name, Vorname Operateur 1: | G57: =IF(D57="","",H57+I57)
B58: Name, Vorname Operateur 2: | G58: =IF(D58="","",H58+I58)
B59: Name, Vorname Operateur 3: | G59: =IF(D59="","",H59+I59)
B60: Name, Vorname Operateur 4: | G60: =IF(D60="","",H60+I60)
B61: Name, Vorname Operateur 5: | G61: =IF(D61="","",H61+I61)
B62: Name, Vorname Operateur 6: | G62: =IF(D62="","",H62+I62)
B63: Name, Vorname Operateur 7: | G63: =IF(D63="","",H63+I63)
B64: Name, Vorname Operateur 8: | G64: =IF(D64="","",H64+I64)
B65: Name, Vorname Operateur 9: | G65: =IF(D65="","",H65+I65)
B66: Name, Vorname Operateur 10: | G66: =IF(D66="","",H66+I66)
B67: Name, Vorname Operateur 11: | G67: =IF(D67="","",H67+I67)
B68: Name, Vorname Operateur 12: | G68: =IF(D68="","",H68+I68)
G70: Summe: | H70: =SUM(H57:H68) -> 0

Sheet Auswertungsblatt
A1: Allgemeine Angaben | G1: =Kennzahlenbogen!D23 -> Mindestanzahl Operateure (DGH-Mitglieder mit Zusatzbezeichnung Handchirurgie) * | K1: =Kennzahlenbogen!D24 -> Expertenzertifikat Handchirurgie | O1: =Kennzahlenbogen!D25 -> weiterer Facharzt | S1: =Kennzahlenbogen!D27 -> Osteosynthesen bei Frakturen an Metakarpalknochen und Phalangen | W1: =Kennzahlenbogen!D28 -> Operative Gelenkeingriffe distal des Karpus (z.B. bei Fingergelenkluxation, Arthroplastiken (ohne Endoprothetik), Bandrekonstruktionen und Arthrodesen) | AA1: =Kennzahlenbogen!D29 -> Arthroskopische Eingriffe an Handgelenk und Hand | AE1: =Kennzahlenbogen!D30 -> Strecksehnennähte und Beugesehnennähte | AI1: =Kennzahlenbogen!D31 -> Versorgung von Weichteilverletzungen an Unterarm, Handgelenk und Hand | AM1: =Kennzahlenbogen!D32 -> Nervendekompressionen, Neurolysen und Nervennähte an Handgelenk und Hand | AQ1: =Kennzahlenbogen!D33 -> Operative Behandlung einfacher Infekte (Paronychie, Empyem der Fingergelenke, Phlegmone und Beugesehnenscheideninfektion) | AU1: =Kennzahlenbogen!D34 -> Aponeurektomie bei M. Dupuytren | AY1: =Kennzahlenbogen!D35 -> Chirurgie von Tumoren der Hand (außer Ganglien und benigne Hauttumoren) | BC1: =Kennzahlenbogen!D36 -> Osteosynthesen karpaler Frakturen | BG1: =Kennzahlenbogen!D37 -> Karpale Teilarthrodesen, knöcherne OPs der Lunatumnekrose, sekundäre SL-Band- und andere Bandrekonstruktionen | BK1: =Kennzahlenbogen!D38 -> Operative Behandlung von Pseudarthrosen der Hand- und Karpalknochen | BO1: =Kennzahlenbogen!D39 -> Endoprothetik der Fingergelenke und des Daumensattelgelenks | BS1: =Kennzahlenbogen!D40 -> Mikrochirurgische Versorgung neurovaskulärer Verletzungen (exkl. Replantationen) | BW1: =Kennzahlenbogen!D41 -> Sekundäre periphere Nervenchirurgie (mikrochirurgische Nervenrekonstruktionen, Nerventranspositionen und motorische Ersatzoperationen bei Nervenschäden) | CA1: =Kennzahlenbogen!D42 -> Sekundäre Sehnenrekonstruktionen | CE1: =Kennzahlenbogen!D43 -> Behandlung schwerer Infekte (Hohlhand-/ Unterarminfektion und Empyeme des Handgelenkes) | CI1: =Kennzahlenbogen!D44 -> Replantationen und Revaskularisationen | CM1: =Kennzahlenbogen!D45 -> Rekonstruktion mit vaskularisierten Knochentransplantaten an der Hand und am Unterarm | CQ1: =Kennzahlenbogen!D46 -> Osteosynthesen der distalen Zweidrittel des Radius und der Ulna | CU1: =Kennzahlenbogen!D47 -> Endoprothetik am Handgelenk und Radioulnargelenk | CY1: =Kennzahlenbogen!D48 -> Operative Behandlung kindlicher Fehlbildungen an Hand, Handgelenk und Unterarm (außer Pollex flexus rigidus und einfache Resektionen) | DC1: =Kennzahlenbogen!D49 -> Behandlung von malignen Tumoren, außer Tumoren der Haut (Unterarm und Hand) | DG1: =Kennzahlenbogen!D50 -> Rheumahandchirurgie | DK1: =Kennzahlenbogen!D51 -> Stationäre handtherapeutische Komplexbehandlung inkl. Schmerztherapie | DO1: =Kennzahlenbogen!D52 -> Freie oder axial gestielte Lappenplastiken an Hand und Unterarm | DS1: =Kennzahlenbogen!B54 -> Fallzahlen Zentrum | DT1: =Kennzahlenbogen!D58 -> 0 | DW1: =Kennzahlenbogen!D59 -> 0 | DZ1: =Kennzahlenbogen!D60 -> 0 | EC1: =Kennzahlenbogen!D61 -> 0 | EF1: =Kennzahlenbogen!D62 -> 0 | EI1: =Kennzahlenbogen!D63 -> 0 | EL1: =Kennzahlenbogen!D64 -> 0 | EO1: =Kennzahlenbogen!D65 -> 0 | ER1: =Kennzahlenbogen!D66 -> 0 | EU1: =Kennzahlenbogen!D67 -> 0 | EX1: =Kennzahlenbogen!D68 -> 0 | FA1: Operateure
A2: =Kennzahlenbogen!B6 -> Name des Zentrums | B2: =Kennzahlenbogen!F8 -> Reg.Nr. ZHZ- | C2: =Kennzahlenbogen!B8 -> Level des Zentrums | D2: =Kennzahlenbogen!K13 -> Auditjahr | E2: =Kennzahlenbogen!K15 -> Erfassungsjahr | F2: =Kennzahlenbogen!K17 -> Erstelldatum | G2: Soll-Wert | H2: IST-Wert | I2: Anmerkung | J2: Kommentar | K2: Soll-Wert | L2: IST-Wert | M2: Anmerkung | N2: Kommentar | O2: Soll-Wert | P2: IST-Wert | Q2: Anmerkung | R2: Kommentar | S2: Soll-Wert | T2: IST-Wert | U2: Anmerkung | V2: Kommentar | W2: Soll-Wert | X2: IST-Wert | Y2: Anmerkung | Z2: Kommentar | AA2: Soll-Wert | AB2: IST-Wert | AC2: Anmerkung | AD2: Kommentar | AE2: Soll-Wert | AF2: IST-Wert | AG2: Anmerkung | AH2: Kommentar | AI2: Soll-Wert | AJ2: IST-Wert | AK2: Anmerkung | AL2: Kommentar | AM2: Soll-Wert | AN2: IST-Wert | AO2: Anmerkung | AP2: Kommentar | AQ2: Soll-Wert | AR2: IST-Wert | AS2: Anmerkung | AT2: Kommentar | AU2: Soll-Wert | AV2: IST-Wert | AW2: Anmerkung | AX2: Kommentar | AY2: Soll-Wert | AZ2: IST-Wert | BA2: Anmerkung | BB2: Kommentar | BC2: Soll-Wert | BD2: IST-Wert | BE2: Anmerkung | BF2: Kommentar | BG2: Soll-Wert | BH2: IST-Wert | BI2: Anmerkung | BJ2: Kommentar | BK2: Soll-Wert | BL2: IST-Wert | BM2: Anmerkung | BN2: Kommentar | BO2: Soll-Wert | BP2: IST-Wert | BQ2: Anmerkung | BR2: Kommentar | BS2: Soll-Wert | BT2: IST-Wert | BU2: Anmerkung | BV2: Kommentar | BW2: Soll-Wert | BX2: IST-Wert | BY2: Anmerkung | BZ2: Kommentar | CA2: Soll-Wert | CB2: IST-Wert | CC2: Anmerkung | CD2: Kommentar | CE2: Soll-Wert | CF2: IST-Wert | CG2: Anmerkung | CH2: Kommentar | CI2: Soll-Wert | CJ2: IST-Wert | CK2: Anmerkung | CL2: Kommentar | CM2: Soll-Wert | CN2: IST-Wert | CO2: Anmerkung | CP2: Kommentar | CQ2: Soll-Wert | CR2: IST-Wert | CS2: Anmerkung | CT2: Kommentar | CU2: Soll-Wert | CV2: IST-Wert | CW2: Anmerkung | CX2: Kommentar | CY2: Soll-Wert | CZ2: IST-Wert | DA2: Anmerkung | DB2: Kommentar | DC2: Soll-Wert | DD2: IST-Wert | DE2: Anmerkung | DF2: Kommentar | DG2: Soll-Wert | DH2: IST-Wert | DI2: Anmerkung | DJ2: Kommentar | DK2: Soll-Wert | DL2: IST-Wert | DM2: Anmerkung | DN2: Kommentar | DO2: Soll-Wert | DP2: IST-Wert | DQ2: Anmerkung | DR2: Kommentar | DS2: Gesamtanzahl handchirurgischer Operationen pro Jahr | DT2: Gesamteingriffe | DU2: Operateur | DV2: Assistenz | DW2: Gesamteingriffe | DX2: Operateur | DY2: Assistenz | DZ2: Gesamteingriffe | EA2: Operateur | EB2: Assistenz | EC2: Gesamteingriffe | ED2: Operateur | EE2: Assistenz | EF2: Gesamteingriffe | EG2: Operateur | EH2: Assistenz | EI2: Gesamteingriffe | EJ2: Operateur | EK2: Assistenz | EL2: Gesamteingriffe | EM2: Operateur | EN2: Assistenz | EO2: Gesamteingriffe | EP2: Operateur | EQ2: Assistenz | ER2: Gesamteingriffe | ES2: Operateur | ET2: Assistenz | EU2: Gesamteingriffe | EV2: Operateur | EW2: Assistenz | EX2: Gesamteingriffe | EY2: Operateur | EZ2: Assistenz | FA2: Summe
A3: =Kennzahlenbogen!D6 -> 0 | B3: =Kennzahlenbogen!G8 -> 0 | C3: =Kennzahlenbogen!D8 -> 0 | D3: =Kennzahlenbogen!L13 -> 0 | E3: =Kennzahlenbogen!L15 -> 0 | F3: =Kennzahlenbogen!L17 -> 0 | G3: =IF(Kennzahlenbogen!D8="Level I",Kennzahlenbogen!G23,IF(Kennzahlenbogen!D8="Level II",Kennzahlenbogen!H23,Kennzahlenbogen!I23)) -> 3 | H3: =Kennzahlenbogen!J23 -> 0 | I3: =Kennzahlenbogen!K23 -> nicht befüllt | J3: =Kennzahlenbogen!L23 -> 0 | K3: =IF(Kennzahlenbogen!D8="Level I",Kennzahlenbogen!G24,IF(Kennzahlenbogen!D8="Level II",Kennzahlenbogen!H24,Kennzahlenbogen!I24)) -> 3 | L3: =Kennzahlenbogen!J24 -> 0 | M3: =Kennzahlenbogen!K24 -> nicht befüllt | N3: =Kennzahlenbogen!L24 -> 0 | O3: =IF(Kennzahlenbogen!D8="Level I",Kennzahlenbogen!G25,IF(Kennzahlenbogen!D8="Level II",Kennzahlenbogen!H25,Kennzahlenbogen!I25)) -> 3 | P3: =Kennzahlenbogen!J25 -> 0 | Q3: =Kennzahlenbogen!K25 -> nicht befüllt | R3: =Kennzahlenbogen!L25 -> 0 | S3: =IF(Kennzahlenbogen!D8="Level I",Kennzahlenbogen!G27,IF(Kennzahlenbogen!D8="Level II",Kennzahlenbogen!H27,Kennzahlenbogen!I27)) -> 30 | T3: =Kennzahlenbogen!J27 -> 0 | U3: =Kennzahlenbogen!K27 -> nicht befüllt | V3: =Kennzahlenbogen!L27 -> 0 | W3: =IF(Kennzahlenbogen!D8="Level I",Kennzahlenbogen!G28,IF(Kennzahlenbogen!D8="Level II",Kennzahlenbogen!H28,Kennzahlenbogen!I28)) -> 20 | X3: =Kennzahlenbogen!J28 -> 0 | Y3: =Kennzahlenbogen!K28 -> nicht befüllt | Z3: =Kennzahlenbogen!L28 -> 0 | AA3: =IF(Kennzahlenbogen!D8="Level I",Kennzahlenbogen!G29,IF(Kennzahlenbogen!D8="Level II",Kennzahlenbogen!H29,Kennzahlenbogen!I29)) -> 30 | AB3: =Kennzahlenbogen!J29 -> 0 | AC3: =Kennzahlenbogen!K29 -> nicht befüllt | AD3: =Kennzahlenbogen!L29 -> 0 | AE3: =IF(Kennzahlenbogen!D8="Level I",Kennzahlenbogen!G30,IF(Kennzahlenbogen!D8="Level II",Kennzahlenbogen!H30,Kennzahlenbogen!I30)) -> 30 | AF3: =Kennzahlenbogen!J30 -> 0 | AG3: =Kennzahlenbogen!K30 -> nicht befüllt | AH3: =Kennzahlenbogen!L30 -> 0 | AI3: =IF(Kennzahlenbogen!D8="Level I",Kennzahlenbogen!G31,IF(Kennzahlenbogen!D8="Level II",Kennzahlenbogen!H31,Kennzahlenbogen!I31)) -> 30 | AJ3: =Kennzahlenbogen!J31 -> 0 | AK3: =Kennzahlenbogen!K31 -> nicht befüllt | AL3: =Kennzahlenbogen!L31 -> 0 | AM3: =IF(Kennzahlenbogen!D8="Level I",Kennzahlenbogen!G32,IF(Kennzahlenbogen!D8="Level II",Kennzahlenbogen!H32,Kennzahlenbogen!I32)) -> 50 | AN3: =Kennzahlenbogen!J32 -> 0 | AO3: =Kennzahlenbogen!K32 -> nicht befüllt | AP3: =Kennzahlenbogen!L32 -> 0 | AQ3: =IF(Kennzahlenbogen!D8="Level I",Kennzahlenbogen!G33,IF(Kennzahlenbogen!D8="Level II",Kennzahlenbogen!H33,Kennzahlenbogen!I33)) -> 30 | AR3: =Kennzahlenbogen!J33 -> 0 | AS3: =Kennzahlenbogen!K33 -> nicht befüllt | AT3: =Kennzahlenbogen!L33 -> 0 | AU3: =IF(Kennzahlenbogen!D8="Level I",Kennzahlenbogen!G34,IF(Kennzahlenbogen!D8="Level II",Kennzahlenbogen!H34,Kennzahlenbogen!I34)) -> 20 | AV3: =Kennzahlenbogen!J34 -> 0 | AW3: =Kennzahlenbogen!K34 -> nicht befüllt | AX3: =Kennzahlenbogen!L34 -> 0 | AY3: =IF(Kennzahlenbogen!D8="Level I",Kennzahlenbogen!G35,IF(Kennzahlenbogen!D8="Level II",Kennzahlenbogen!H35,Kennzahlenbogen!I35)) -> 15 | AZ3: =Kennzahlenbogen!J35 -> 0 | BA3: =Kennzahlenbogen!K35 -> nicht befüllt | BB3: =Kennzahlenbogen!L35 -> 0 | BC3: =IF(Kennzahlenbogen!D8="Level I",Kennzahlenbogen!G36,IF(Kennzahlenbogen!D8="Level II",Kennzahlenbogen!H36,Kennzahlenbogen!I36)) -> 20 | BD3: =Kennzahlenbogen!J36 -> 0 | BE3: =Kennzahlenbogen!K36 -> nicht befüllt | BF3: =Kennzahlenbogen!L36 -> 0 | BG3: =IF(Kennzahlenbogen!D8="Level I",Kennzahlenbogen!G37,IF(Kennzahlenbogen!D8="Level II",Kennzahlenbogen!H37,Kennzahlenbogen!I37)) -> 20 | BH3: =Kennzahlenbogen!J37 -> 0 | BI3: =Kennzahlenbogen!K37 -> nicht befüllt | BJ3: =Kennzahlenbogen!L37 -> 0 | BK3: =IF(Kennzahlenbogen!D8="Level I",Kennzahlenbogen!G38,IF(Kennzahlenbogen!D8="Level II",Kennzahlenbogen!H38,Kennzahlenbogen!I38)) -> 20 | BL3: =Kennzahlenbogen!J38 -> 0 | BM3: =Kennzahlenbogen!K38 -> nicht befüllt | BN3: =Kennzahlenbogen!L38 -> 0 | BO3: =IF(Kennzahlenbogen!D8="Level I",Kennzahlenbogen!G39,IF(Kennzahlenbogen!D8="Level II",Kennzahlenbogen!H39,Kennzahlenbogen!I39)) -> 15 | BP3: =Kennzahlenbogen!J39 -> 0 | BQ3: =Kennzahlenbogen!K39 -> nicht befüllt | BR3: =Kennzahlenbogen!L39 -> 0 | BS3: =IF(Kennzahlenbogen!D8="Level I",Kennzahlenbogen!G40,IF(Kennzahlenbogen!D8="Level II",Kennzahlenbogen!H40,Kennzahlenbogen!I40)) -> 20 | BT3: =Kennzahlenbogen!J40 -> 0 | BU3: =Kennzahlenbogen!K40 -> nicht befüllt | BV3: =Kennzahlenbogen!L40 -> 0 | BW3: =IF(Kennzahlenbogen!D8="Level I",Kennzahlenbogen!G41,IF(Kennzahlenbogen!D8="Level II",Kennzahlenbogen!H41,Kennzahlenbogen!I41)) -> 10 | BX3: =Kennzahlenbogen!J41 -> 0 | BY3: =Kennzahlenbogen!K41 -> nicht befüllt | BZ3: =Kennzahlenbogen!L41 -> 0 | CA3: =IF(Kennzahlenbogen!D8="Level I",Kennzahlenbogen!G42,IF(Kennzahlenbogen!D8="Level II",Kennzahlenbogen!H42,Kennzahlenbogen!I42)) -> 15 | CB3: =Kennzahlenbogen!J42 -> 0 | CC3: =Kennzahlenbogen!K42 -> nicht befüllt | CD3: =Kennzahlenbogen!L42 -> 0 | CE3: =IF(Kennzahlenbogen!D8="Level I",Kennzahlenbogen!G43,IF(Kennzahlenbogen!D8="Level II",Kennzahlenbogen!H43,Kennzahlenbogen!I43)) -> 20 | CF3: =Kennzahlenbogen!J43 -> 0 | CG3: =Kennzahlenbogen!K43 -> nicht befüllt | CH3: =Kennzahlenbogen!L43 -> 0 | CI3: =IF(Kennzahlenbogen!D8="Level I",Kennzahlenbogen!G44,IF(Kennzahlenbogen!D8="Level II",Kennzahlenbogen!H44,Kennzahlenbogen!I44)) -> 10 | CJ3: =Kennzahlenbogen!J44 -> 0 | CK3: =Kennzahlenbogen!K44 -> nicht befüllt | CL3: =Kennzahlenbogen!L44 -> 0 | CM3: =IF(Kennzahlenbogen!D8="Level I",Kennzahlenbogen!G45,IF(Kennzahlenbogen!D8="Level II",Kennzahlenbogen!H45,Kennzahlenbogen!I45)) -> 5 | CN3: =Kennzahlenbogen!J45 -> 0 | CO3: =Kennzahlenbogen!K45 -> nicht befüllt | CP3: =Kennzahlenbogen!L45 -> 0 | CQ3: =IF(Kennzahlenbogen!D8="Level I",Kennzahlenbogen!G46,IF(Kennzahlenbogen!D8="Level II",Kennzahlenbogen!H46,Kennzahlenbogen!I46)) -> 20 | CR3: =Kennzahlenbogen!J46 -> 0 | CS3: =Kennzahlenbogen!K46 -> nicht befüllt | CT3: =Kennzahlenbogen!L46 -> 0 | CU3: =IF(Kennzahlenbogen!D8="Level I",Kennzahlenbogen!G47,IF(Kennzahlenbogen!D8="Level II",Kennzahlenbogen!H47,Kennzahlenbogen!I47)) -> 5 | CV3: =Kennzahlenbogen!J47 -> 0 | CW3: =Kennzahlenbogen!K47 -> nicht befüllt | CX3: =Kennzahlenbogen!L47 -> 0 | CY3: =IF(Kennzahlenbogen!D8="Level I",Kennzahlenbogen!G48,IF(Kennzahlenbogen!D8="Level II",Kennzahlenbogen!H48,Kennzahlenbogen!I48)) -> 10 | CZ3: =Kennzahlenbogen!J48 -> 0 | DA3: =Kennzahlenbogen!K48 -> nicht befüllt | DB3: =Kennzahlenbogen!L48 -> 0 | DC3: =IF(Kennzahlenbogen!D8="Level I",Kennzahlenbogen!G49,IF(Kennzahlenbogen!D8="Level II",Kennzahlenbogen!H49,Kennzahlenbogen!I49)) -> 10 | DD3: =Kennzahlenbogen!J49 -> 0 | DE3: =Kennzahlenbogen!K49 -> nicht befüllt | DF3: =Kennzahlenbogen!L49 -> 0 | DG3: =IF(Kennzahlenbogen!D8="Level I",Kennzahlenbogen!G50,IF(Kennzahlenbogen!D8="Level II",Kennzahlenbogen!H50,Kennzahlenbogen!I50)) -> 15 | DH3: =Kennzahlenbogen!J50 -> 0 | DI3: =Kennzahlenbogen!K50 -> nicht befüllt | DJ3: =Kennzahlenbogen!L50 -> 0 | DK3: =IF(Kennzahlenbogen!D8="Level I",Kennzahlenbogen!G51,IF(Kennzahlenbogen!D8="Level II",Kennzahlenbogen!H51,Kennzahlenbogen!I51)) -> 10 | DL3: =Kennzahlenbogen!J51 -> 0 | DM3: =Kennzahlenbogen!K51 -> nicht befüllt | DN3: =Kennzahlenbogen!L51 -> 0 | DO3: =IF(Kennzahlenbogen!D8="Level I",Kennzahlenbogen!G52,IF(Kennzahlenbogen!D8="Level II",Kennzahlenbogen!H52,Kennzahlenbogen!I52)) -> 10 | DP3: =Kennzahlenbogen!J52 -> 0 | DQ3: =Kennzahlenbogen!K52 -> nicht befüllt | DR3: =Kennzahlenbogen!L52 -> 0 | DS3: =Kennzahlenbogen!G54 -> 0 | DT3: =Kennzahlenbogen!G58 | DU3: =Kennzahlenbogen!H58 -> 0 | DV3: =Kennzahlenbogen!I58 -> 0 | DW3: =Kennzahlenbogen!G59 | DX3: =Kennzahlenbogen!H59 -> 0 | DY3: =Kennzahlenbogen!I59 -> 0 | DZ3: =Kennzahlenbogen!G60 | EA3: =Kennzahlenbogen!H60 -> 0 | EB3: =Kennzahlenbogen!I60 -> 0 | EC3: =Kennzahlenbogen!G61 | ED3: =Kennzahlenbogen!H61 -> 0 | EE3: =Kennzahlenbogen!I61 -> 0 | EF3: =Kennzahlenbogen!G62 | EG3: =Kennzahlenbogen!H62 -> 0 | EH3: =Kennzahlenbogen!I62 -> 0 | EI3: =Kennzahlenbogen!G63 | EJ3: =Kennzahlenbogen!H63 -> 0 | EK3: =Kennzahlenbogen!I63 -> 0 | EL3: =Kennzahlenbogen!G64 | EM3: =Kennzahlenbogen!H64 -> 0 | EN3: =Kennzahlenbogen!I64 -> 0 | EO3: =Kennzahlenbogen!G65 | EP3: =Kennzahlenbogen!H65 -> 0 | EQ3: =Kennzahlenbogen!I65 -> 0 | ER3: =Kennzahlenbogen!G66 | ES3: =Kennzahlenbogen!H66 -> 0 | ET3: =Kennzahlenbogen!I66 -> 0 | EU3: =Kennzahlenbogen!G67 | EV3: =Kennzahlenbogen!H67 -> 0 | EW3: =Kennzahlenbogen!I67 -> 0 | EX3: =Kennzahlenbogen!G68 | EY3: =Kennzahlenbogen!H68 -> 0 | EZ3: =Kennzahlenbogen!I68 -> 0 | FA3: =Kennzahlenbogen!H70 -> 0
